BEGIN:VCALENDAR
VERSION:2.0
PRODID:-//Sri Siva Vishnu Temple - ECPv6.6.4.2//NONSGML v1.0//EN
CALSCALE:GREGORIAN
METHOD:PUBLISH
X-ORIGINAL-URL:https://ssvt.org
X-WR-CALDESC:Events for Sri Siva Vishnu Temple
REFRESH-INTERVAL;VALUE=DURATION:PT1H
X-Robots-Tag:noindex
X-PUBLISHED-TTL:PT1H
BEGIN:VTIMEZONE
TZID:America/New_York
BEGIN:DAYLIGHT
TZOFFSETFROM:-0500
TZOFFSETTO:-0400
TZNAME:EDT
DTSTART:20230312T070000
END:DAYLIGHT
BEGIN:STANDARD
TZOFFSETFROM:-0400
TZOFFSETTO:-0500
TZNAME:EST
DTSTART:20231105T060000
END:STANDARD
END:VTIMEZONE
BEGIN:VEVENT
DTSTART;VALUE=DATE:20230827
DTEND;VALUE=DATE:20231101
DTSTAMP:20260421T092439
CREATED:20230820T024142Z
LAST-MODIFIED:20230820T024219Z
UID:13143-1693094400-1698796799@ssvt.org
SUMMARY:Fall Concert Series
DESCRIPTION:Click here to Sponsor
URL:https://ssvt.org/event/fall-concert-series/
LOCATION:Sri Siva Vishnu Temple\, 6905 Cipriano Road\, Lanham\, MD\, 20706\, United States
CATEGORIES:Calendar,cultural,UpcomingEvents
ORGANIZER;CN="Sri Siva Vishnu Temple":MAILTO:ssvt@ssvt.org
END:VEVENT
BEGIN:VEVENT
DTSTART;VALUE=DATE:20230909
DTEND;VALUE=DATE:20230910
DTSTAMP:20260421T092439
CREATED:20230407T203935Z
LAST-MODIFIED:20230905T190541Z
UID:12936-1694217600-1694303999@ssvt.org
SUMMARY:Grand Vocal Concert by Vignesh Ishwar
DESCRIPTION:Click here to Sponsor
URL:https://ssvt.org/event/grand-vocal-concert-by-vivek-moozhikulam/
LOCATION:Sri Siva Vishnu Temple\, 6905 Cipriano Road\, Lanham\, MD\, 20706\, United States
CATEGORIES:Calendar,cultural,UpcomingEvents
ATTACH;FMTTYPE=image/jpeg:https://ssvt.org/wp-content/uploads/2023/04/2023VigneshIshwarEmailTN.jpg
END:VEVENT
BEGIN:VEVENT
DTSTART;VALUE=DATE:20230910
DTEND;VALUE=DATE:20230911
DTSTAMP:20260421T092439
CREATED:20230820T023453Z
LAST-MODIFIED:20230905T190639Z
UID:13140-1694304000-1694390399@ssvt.org
SUMMARY:Grand Vocal Concert by Kiranavali & Akshara
DESCRIPTION:Click here to Sponsor
URL:https://ssvt.org/event/grand-vocal-concert-2/
LOCATION:Sri Siva Vishnu Temple\, 6905 Cipriano Road\, Lanham\, MD\, 20706\, United States
CATEGORIES:Calendar,cultural,UpcomingEvents
ATTACH;FMTTYPE=image/jpeg:https://ssvt.org/wp-content/uploads/2023/08/2023KiranavaliEmailTN.jpg
ORGANIZER;CN="Sri Siva Vishnu Temple":MAILTO:ssvt@ssvt.org
END:VEVENT
BEGIN:VEVENT
DTSTART;VALUE=DATE:20230916
DTEND;VALUE=DATE:20230917
DTSTAMP:20260421T092439
CREATED:20230405T115705Z
LAST-MODIFIED:20230905T201137Z
UID:12931-1694822400-1694908799@ssvt.org
SUMMARY:Grand Vocal Concert by Sriranjani Santhanagopalan
DESCRIPTION:Click here to Sponsor
URL:https://ssvt.org/event/grand-vocal-concert-by-r-suryaprakash/
LOCATION:Sri Siva Vishnu Temple\, 6905 Cipriano Road\, Lanham\, MD\, 20706\, United States
CATEGORIES:Calendar,cultural,UpcomingEvents
ATTACH;FMTTYPE=image/jpeg:https://ssvt.org/wp-content/uploads/2023/04/2023SriranjaniEmailTN.jpg
END:VEVENT
BEGIN:VEVENT
DTSTART;TZID=America/New_York:20230916T080000
DTEND;TZID=America/New_York:20230916T080000
DTSTAMP:20260421T092439
CREATED:20210903T150333Z
LAST-MODIFIED:20230904T172851Z
UID:11603-1694851200-1694851200@ssvt.org
SUMMARY:Sama Upakarma
DESCRIPTION:Click here to Sponsor
URL:https://ssvt.org/event/sama-upakarma/
CATEGORIES:Calendar,UpcomingEvents
ATTACH;FMTTYPE=image/jpeg:https://ssvt.org/wp-content/uploads/2021/09/2023SamaUpakarmaEmailTN.jpg
END:VEVENT
BEGIN:VEVENT
DTSTART;VALUE=DATE:20230917
DTEND;VALUE=DATE:20230918
DTSTAMP:20260421T092439
CREATED:20230411T114611Z
LAST-MODIFIED:20230905T190119Z
UID:12940-1694908800-1694995199@ssvt.org
SUMMARY:Grand Veena Concert
DESCRIPTION:Click here to Sponsor
URL:https://ssvt.org/event/grand-veena-concert/
LOCATION:Sri Siva Vishnu Temple\, 6905 Cipriano Road\, Lanham\, MD\, 20706\, United States
CATEGORIES:Calendar,cultural,UpcomingEvents
END:VEVENT
BEGIN:VEVENT
DTSTART;VALUE=DATE:20230923
DTEND;VALUE=DATE:20230924
DTSTAMP:20260421T092439
CREATED:20220925T182529Z
LAST-MODIFIED:20230905T213029Z
UID:12652-1695427200-1695513599@ssvt.org
SUMMARY:17th Annual Swathi Thirunal Festival
DESCRIPTION:Click here to Sponsor
URL:https://ssvt.org/event/annual-swathi-thirunal-festival/
LOCATION:Sri Siva Vishnu Temple\, 6905 Cipriano Road\, Lanham\, MD\, 20706\, United States
CATEGORIES:Calendar,cultural,UpcomingEvents
ATTACH;FMTTYPE=image/jpeg:https://ssvt.org/wp-content/uploads/2023/09/2023SwathiThirunalEmailTN-1.jpg
ORGANIZER;CN="Sri Siva Vishnu Temple":MAILTO:ssvt@ssvt.org
END:VEVENT
BEGIN:VEVENT
DTSTART;VALUE=DATE:20230930
DTEND;VALUE=DATE:20231203
DTSTAMP:20260421T092439
CREATED:20230526T172701Z
LAST-MODIFIED:20231107T135833Z
UID:12992-1696032000-1701561599@ssvt.org
SUMMARY:Koti Skandha Japam-  Count as of 11/07/2023 - 14\,344\,121
DESCRIPTION:Click here to Sponsor
URL:https://ssvt.org/event/koti-skandha-japam-deeksha-by-sri-sivacharyar/
LOCATION:Sri Siva Vishnu Temple\, 6905 Cipriano Road\, Lanham\, MD\, 20706\, United States
CATEGORIES:Calendar,UpcomingEvents
ATTACH;FMTTYPE=image/jpeg:https://ssvt.org/wp-content/uploads/2023/05/KotiSkandhaJapam.jpg
END:VEVENT
END:VCALENDAR