BEGIN:VCALENDAR
VERSION:2.0
PRODID:-//Sri Siva Vishnu Temple - ECPv6.6.4.2//NONSGML v1.0//EN
CALSCALE:GREGORIAN
METHOD:PUBLISH
X-WR-CALNAME:Sri Siva Vishnu Temple
X-ORIGINAL-URL:https://ssvt.org
X-WR-CALDESC:Events for Sri Siva Vishnu Temple
REFRESH-INTERVAL;VALUE=DURATION:PT1H
X-Robots-Tag:noindex
X-PUBLISHED-TTL:PT1H
BEGIN:VTIMEZONE
TZID:America/New_York
BEGIN:DAYLIGHT
TZOFFSETFROM:-0500
TZOFFSETTO:-0400
TZNAME:EDT
DTSTART:20230312T070000
END:DAYLIGHT
BEGIN:STANDARD
TZOFFSETFROM:-0400
TZOFFSETTO:-0500
TZNAME:EST
DTSTART:20231105T060000
END:STANDARD
END:VTIMEZONE
BEGIN:VEVENT
DTSTART;VALUE=DATE:20231001
DTEND;VALUE=DATE:20231002
DTSTAMP:20260424T100545
CREATED:20220426T022145Z
LAST-MODIFIED:20230925T171552Z
UID:12389-1696118400-1696204799@ssvt.org
SUMMARY:Grand Vocal Concert by Ramakrishnan Murthy
DESCRIPTION:
URL:https://ssvt.org/event/grand-vocal-concert/
LOCATION:Sri Siva Vishnu Temple\, 6905 Cipriano Road\, Lanham\, MD\, 20706\, United States
CATEGORIES:Calendar,Concert,UpcomingEvents
END:VEVENT
END:VCALENDAR