BEGIN:VCALENDAR
VERSION:2.0
PRODID:-//Sri Siva Vishnu Temple - ECPv6.6.4.2//NONSGML v1.0//EN
CALSCALE:GREGORIAN
METHOD:PUBLISH
X-ORIGINAL-URL:https://ssvt.org
X-WR-CALDESC:Events for Sri Siva Vishnu Temple
REFRESH-INTERVAL;VALUE=DURATION:PT1H
X-Robots-Tag:noindex
X-PUBLISHED-TTL:PT1H
BEGIN:VTIMEZONE
TZID:America/New_York
BEGIN:DAYLIGHT
TZOFFSETFROM:-0500
TZOFFSETTO:-0400
TZNAME:EDT
DTSTART:20260308T070000
END:DAYLIGHT
BEGIN:STANDARD
TZOFFSETFROM:-0400
TZOFFSETTO:-0500
TZNAME:EST
DTSTART:20261101T060000
END:STANDARD
END:VTIMEZONE
BEGIN:VEVENT
DTSTART;VALUE=DATE:20260111
DTEND;VALUE=DATE:20260120
DTSTAMP:20260423T055500
CREATED:20210604T061936Z
LAST-MODIFIED:20260131T181012Z
UID:9785-1768089600-1768867199@ssvt.org
SUMMARY:Ayyappa Mandala Makarotsavam
DESCRIPTION:Click here to Sponsor
URL:https://ssvt.org/event/ayyappa-mahotsavam-june-17-22/
LOCATION:MD
CATEGORIES:Calendar,UpcomingEvents
ATTACH;FMTTYPE=image/png:https://ssvt.org/wp-content/uploads/2025/10/2025-26AyyappaTN-scaled.png
ORGANIZER;CN="Sri Siva Vishnu Temple":MAILTO:ssvt@ssvt.org
END:VEVENT
BEGIN:VEVENT
DTSTART;VALUE=DATE:20260111
DTEND;VALUE=DATE:20260112
DTSTAMP:20260423T055500
CREATED:20220804T001245Z
LAST-MODIFIED:20260103T013253Z
UID:12579-1768089600-1768175999@ssvt.org
SUMMARY:Andal Kalyanam Cultural Event
DESCRIPTION:Click here to Sponsor
URL:https://ssvt.org/event/janmashtami-cultural-event/
LOCATION:Sri Siva Vishnu Temple\, 6905 Cipriano Road\, Lanham\, MD\, 20706\, United States
CATEGORIES:Calendar,cultural,UpcomingEvents
ATTACH;FMTTYPE=image/jpeg:https://ssvt.org/wp-content/uploads/2022/08/2026AndalKalyanamCultural.jpeg
ORGANIZER;CN="Sri Siva Vishnu Temple":MAILTO:ssvt@ssvt.org
END:VEVENT
BEGIN:VEVENT
DTSTART;VALUE=DATE:20260111
DTEND;VALUE=DATE:20260112
DTSTAMP:20260423T055500
CREATED:20221206T130303Z
LAST-MODIFIED:20260112T173340Z
UID:12759-1768089600-1768175999@ssvt.org
SUMMARY:Andal Kalyanam
DESCRIPTION:Click here to Sponsor
URL:https://ssvt.org/event/andal-kalyanam/
LOCATION:Sri Siva Vishnu Temple\, 6905 Cipriano Road\, Lanham\, MD\, 20706\, United States
CATEGORIES:Calendar,cultural,UpcomingEvents
ATTACH;FMTTYPE=image/jpeg:https://ssvt.org/wp-content/uploads/2024/12/2025AndalKalyanamTN.jpg
ORGANIZER;CN="Sri Siva Vishnu Temple":MAILTO:ssvt@ssvt.org
END:VEVENT
END:VCALENDAR