BEGIN:VCALENDAR
VERSION:2.0
PRODID:-//Sri Siva Vishnu Temple - ECPv6.6.4.2//NONSGML v1.0//EN
CALSCALE:GREGORIAN
METHOD:PUBLISH
X-ORIGINAL-URL:https://ssvt.org
X-WR-CALDESC:Events for Sri Siva Vishnu Temple
REFRESH-INTERVAL;VALUE=DURATION:PT1H
X-Robots-Tag:noindex
X-PUBLISHED-TTL:PT1H
BEGIN:VTIMEZONE
TZID:UTC
BEGIN:STANDARD
TZOFFSETFROM:+0000
TZOFFSETTO:+0000
TZNAME:UTC
DTSTART:20250101T000000
END:STANDARD
END:VTIMEZONE
BEGIN:VEVENT
DTSTART;VALUE=DATE:20251218
DTEND;VALUE=DATE:20251221
DTSTAMP:20260421T111356
CREATED:20210604T063437Z
LAST-MODIFIED:20251223T153118Z
UID:9788-1766016000-1766275199@ssvt.org
SUMMARY:Hanumat Jayanti
DESCRIPTION:Click here to Sponsor
URL:https://ssvt.org/event/hanumat-jayanti-2/
LOCATION:MD
CATEGORIES:Calendar,UpcomingEvents
ATTACH;FMTTYPE=image/jpeg:https://ssvt.org/wp-content/uploads/2025/12/2025HanumatJayantiTN.jpg
END:VEVENT
END:VCALENDAR