BEGIN:VCALENDAR
VERSION:2.0
PRODID:-//Sri Siva Vishnu Temple - ECPv6.6.4.2//NONSGML v1.0//EN
CALSCALE:GREGORIAN
METHOD:PUBLISH
X-WR-CALNAME:Sri Siva Vishnu Temple
X-ORIGINAL-URL:https://ssvt.org
X-WR-CALDESC:Events for Sri Siva Vishnu Temple
REFRESH-INTERVAL;VALUE=DURATION:PT1H
X-Robots-Tag:noindex
X-PUBLISHED-TTL:PT1H
BEGIN:VTIMEZONE
TZID:America/New_York
BEGIN:DAYLIGHT
TZOFFSETFROM:-0500
TZOFFSETTO:-0400
TZNAME:EDT
DTSTART:20230312T070000
END:DAYLIGHT
BEGIN:STANDARD
TZOFFSETFROM:-0400
TZOFFSETTO:-0500
TZNAME:EST
DTSTART:20231105T060000
END:STANDARD
END:VTIMEZONE
BEGIN:VEVENT
DTSTART;VALUE=DATE:20230827
DTEND;VALUE=DATE:20231101
DTSTAMP:20260419T105729
CREATED:20230820T024142Z
LAST-MODIFIED:20230820T024219Z
UID:13143-1693094400-1698796799@ssvt.org
SUMMARY:Fall Concert Series
DESCRIPTION:Click here to Sponsor
URL:https://ssvt.org/event/fall-concert-series/
LOCATION:Sri Siva Vishnu Temple\, 6905 Cipriano Road\, Lanham\, MD\, 20706\, United States
CATEGORIES:Calendar,cultural,UpcomingEvents
ORGANIZER;CN="Sri Siva Vishnu Temple":MAILTO:ssvt@ssvt.org
END:VEVENT
BEGIN:VEVENT
DTSTART;VALUE=DATE:20230930
DTEND;VALUE=DATE:20231203
DTSTAMP:20260419T105729
CREATED:20230526T172701Z
LAST-MODIFIED:20231107T135833Z
UID:12992-1696032000-1701561599@ssvt.org
SUMMARY:Koti Skandha Japam-  Count as of 11/07/2023 - 14\,344\,121
DESCRIPTION:Click here to Sponsor
URL:https://ssvt.org/event/koti-skandha-japam-deeksha-by-sri-sivacharyar/
LOCATION:Sri Siva Vishnu Temple\, 6905 Cipriano Road\, Lanham\, MD\, 20706\, United States
CATEGORIES:Calendar,UpcomingEvents
ATTACH;FMTTYPE=image/jpeg:https://ssvt.org/wp-content/uploads/2023/05/KotiSkandhaJapam.jpg
END:VEVENT
BEGIN:VEVENT
DTSTART;VALUE=DATE:20231007
DTEND;VALUE=DATE:20231008
DTSTAMP:20260419T105729
CREATED:20230928T012726Z
LAST-MODIFIED:20230928T012821Z
UID:13198-1696636800-1696723199@ssvt.org
SUMMARY:Dharma Library Open House
DESCRIPTION:Click here to Sponsor
URL:https://ssvt.org/event/dharma-library-open-house/
LOCATION:Sri Siva Vishnu Temple\, 6905 Cipriano Road\, Lanham\, MD\, 20706\, United States
CATEGORIES:Calendar,UpcomingEvents
ATTACH;FMTTYPE=image/png:https://ssvt.org/wp-content/uploads/2023/09/2023LibraryOpenHouse-Copy.png
END:VEVENT
BEGIN:VEVENT
DTSTART;VALUE=DATE:20231007
DTEND;VALUE=DATE:20231008
DTSTAMP:20260419T105729
CREATED:20231001T021631Z
LAST-MODIFIED:20231001T021711Z
UID:13204-1696636800-1696723199@ssvt.org
SUMMARY:Grand Vocal Concert by Kruthi Bhat
DESCRIPTION:Click here to Sponsor
URL:https://ssvt.org/event/grand-vocal-concert-by-kruthi-bhat/
LOCATION:Sri Siva Vishnu Temple\, 6905 Cipriano Road\, Lanham\, MD\, 20706\, United States
CATEGORIES:Calendar,Concert,UpcomingEvents
END:VEVENT
BEGIN:VEVENT
DTSTART;VALUE=DATE:20231007
DTEND;VALUE=DATE:20231008
DTSTAMP:20260419T105729
CREATED:20231005T010841Z
LAST-MODIFIED:20231005T010915Z
UID:13223-1696636800-1696723199@ssvt.org
SUMMARY:Lecture Demonstration by Prof T S Sathyavathi
DESCRIPTION:Click here to Sponsor
URL:https://ssvt.org/event/lecture-demonstration-by-prof-t-s-sathyavathi/
LOCATION:Sri Siva Vishnu Temple\, 6905 Cipriano Road\, Lanham\, MD\, 20706\, United States
CATEGORIES:Calendar,UpcomingEvents
END:VEVENT
END:VCALENDAR